BEGIN:VCALENDAR
VERSION:2.0
PRODID:-//Attapur.in - ECPv6.0.0.1//NONSGML v1.0//EN
CALSCALE:GREGORIAN
METHOD:PUBLISH
X-ORIGINAL-URL:https://www.attapur.in
X-WR-CALDESC:Events for Attapur.in
REFRESH-INTERVAL;VALUE=DURATION:PT1H
X-Robots-Tag:noindex
X-PUBLISHED-TTL:PT1H
BEGIN:VTIMEZONE
TZID:Asia/Kolkata
BEGIN:STANDARD
TZOFFSETFROM:+0530
TZOFFSETTO:+0530
TZNAME:IST
DTSTART:20160101T000000
END:STANDARD
END:VTIMEZONE
BEGIN:VEVENT
DTSTART;TZID=Asia/Kolkata:20180720T070000
DTEND;TZID=Asia/Kolkata:20180731T230000
DTSTAMP:20260419T203304
CREATED:20180719T180247Z
LAST-MODIFIED:20190808T154140Z
UID:3086-1532070000-1533078000@www.attapur.in
SUMMARY:Tirumala Diagnostics - Best Health Checkup Packages\, Discount Offers
DESCRIPTION:Tirumala Diagnostics offers best Health Checkup Packages and various health packages at affordable cost. \nTirumala Diagnostics is the first multi specialty polyclinic in Attapur and complete family clinic from 7.00 am to 11.00 pm.
URL:https://www.attapur.in/event/tirumala-diagnostics-best-health-checkup-packages-discount-offers/
LOCATION:Tirumala Diagnostics Attapur\, Tirumala Diagnostics\, Hyderabad\, Telangana\, 500048\, India
END:VEVENT
BEGIN:VEVENT
DTSTART;TZID=Asia/Kolkata:20180605T180000
DTEND;TZID=Asia/Kolkata:20180605T200000
DTSTAMP:20260419T203304
CREATED:20180605T012220Z
LAST-MODIFIED:20190808T154140Z
UID:2636-1528221600-1528228800@www.attapur.in
SUMMARY:No Plastic Carry Bags & Donate Re-usable Shopping Bags
DESCRIPTION:Maahini- People for Mother Earth is organising a “ No Plastic Carry Bags” & “ Donate Re-usable Shopping Bags” campaign in association with Balaji Grand Bazar & Sri Venkateshwara Kirana Stores\, Date: 5th June\, 2018@ 6:00 pm\,Attapur A Citizens’ Initiative \nSource: https://twitter.com/RVakkalanka/status/1003621533229563910
URL:https://www.attapur.in/event/no-plastic-carry-bags-donate-re-usable-shopping-bags/
LOCATION:Attapur\, Attapur\, Hyderabad\, Telangana\, 500048\, India
END:VEVENT
BEGIN:VEVENT
DTSTART;TZID=Asia/Kolkata:20180508T040000
DTEND;TZID=Asia/Kolkata:20180510T190000
DTSTAMP:20260419T203304
CREATED:20180502T054001Z
LAST-MODIFIED:20190808T154140Z
UID:2137-1525752000-1525978800@www.attapur.in
SUMMARY:Sri Sri Saptagiri Venkateswara Swamy Vaari Brahmotsavamulu
DESCRIPTION:Sri Sri Saptagiri Venkateswara Swamy Vaari Brahmotsavamulu celebrating in a grand way from 8th May\,2018 to 10th May\, 2018 \n \n 
URL:https://www.attapur.in/event/sri-sri-saptagiri-venkateswara-swamy-vaari-brahmotsavamulu/
LOCATION:Erraboda\, Chaitanya Colony\, Erraboda\, Hyderguda\, Attapur\, Hyderabad\, Telangana\, 500048\, India
END:VEVENT
BEGIN:VEVENT
DTSTART;TZID=Asia/Kolkata:20180326T090000
DTEND;TZID=Asia/Kolkata:20180326T190000
DTSTAMP:20260419T203304
CREATED:20170327T053524Z
LAST-MODIFIED:20190808T154140Z
UID:1914-1522054800-1522090800@www.attapur.in
SUMMARY:Shri Veerabhadra Shiva Sai Ramanjaneya Swamy Devastanamu - Sri Seetha Rama Kalyana Mahotsava Ahwanamu
DESCRIPTION:Sri Seetha Rama Kalyanam conducting in Shri Veerabhadra Shiva Sai Ramanjaneya Swamy Temple on 26th March\, 2018. \nProgram Schedule: \n11:30 am  Sri Seetha Rama Kalyanam \n12:00 pm  Bhajana (Orchestra) \n1:00 pm  Maha Prasadam (Annadanam) \nTemple Pujari: Shri Vishwanada Sharma \nShri Rama Rama Ramethi Rame Raame Manorame..Sahasranama Tatthulyam Rama Nama Varanane !!
URL:https://www.attapur.in/event/shri-veerabhadra-shiva-sai-ramanjaneya-swamy-devastanamu-sri-seetha-rama-kalyana-mahotsava-ahwanamu/
LOCATION:Shri Veerabhadra Shiva Sai Ramanjaneya Swamy Devastanamu\, Gummakonda Colony\, Hyderguda\, Attapur\, Hyderabad\, Telangana\, 500048\, India
END:VEVENT
BEGIN:VEVENT
DTSTART;TZID=Asia/Kolkata:20180213T040000
DTEND;TZID=Asia/Kolkata:20180213T233000
DTSTAMP:20260419T203304
CREATED:20180210T124906Z
LAST-MODIFIED:20190808T154140Z
UID:2457-1518494400-1518564600@www.attapur.in
SUMMARY:Shri Veerabhadra Shiva Sai Ramanjaneya Swamy Devastanamu - MahaShivarathri Mahothsava Ahwanamu
DESCRIPTION:MahaShivarathri Mahothsava Ahwanamu\n   
URL:https://www.attapur.in/event/shri-veerabhadra-shiva-sai-ramanjaneya-swamy-devastanamu-mahashivarathri-mahothsava-ahwanam/
LOCATION:Shri Veerabhadra Shiva Sai Ramanjaneya Swamy Devastanamu\, Gummakonda Colony\, Hyderguda\, Attapur\, Hyderabad\, Telangana\, 500048\, India
END:VEVENT
BEGIN:VEVENT
DTSTART;TZID=Asia/Kolkata:20180212T060000
DTEND;TZID=Asia/Kolkata:20180214T210000
DTSTAMP:20260419T203304
CREATED:20180211T155935Z
LAST-MODIFIED:20190808T154140Z
UID:2460-1518415200-1518642000@www.attapur.in
SUMMARY:Chinna Anantagiri Shivalayamu – MahaShivarathri Mahothsavamulu
DESCRIPTION:
URL:https://www.attapur.in/event/chinna-anantagiri-shivalayamu-mahashivarathri-mahothsavamu/
LOCATION:Chinna Anantagiri Shivalayamu\, Rambagh\, Hyderguda\, Attapur\, Hyderabad\, Telangana\, 500048\, India
END:VEVENT
BEGIN:VEVENT
DTSTART;TZID=Asia/Kolkata:20171003T080000
DTEND;TZID=Asia/Kolkata:20171005T210000
DTSTAMP:20260419T203304
CREATED:20170928T180540Z
LAST-MODIFIED:20190808T154140Z
UID:2329-1507017600-1507237200@www.attapur.in
SUMMARY:Sri Sai Baba Idol Installation
DESCRIPTION:Sai Baba\, Ganapathi\, Dattatreya and Naga Devata Pratista Mahothsavam from Tuesday\, 03-10-2017 to Thursday\, 05-10-2017. All these programmes are conducting by Shri Shiridi Saibaba Mandira Samithi and Chakrapani Shasthri Group. \nPrograms Schedule:\nTuesday\, 03-10-2017:\n9:00 am Svasti Vachanamulu\, Ganapathi pooja\n11:00 am Danyadi Vaasam\n12:00 pm Harathi\n5:00 pm Ganapathi homam\n8:00 pm Harathi\nWednessday\, 04-10-2017:\n8:00 am Stapitha Devata Poojalu\, Homalu\n12:00 pm Harathi\n5:00 pm Stapitha Devata Poojalu\, Adivasa homalu\n8:00 pm Harathi\nThurdsay\, 05-10-2017:\n8:00 am Stapitha Devata Poojalu\, Homalu\n9:09 am Yantra Prathistapanam\n10:00 am Vigraha Prathistapanam\, Prana Prathista\, Harathi\n1:00 pm Annadanamu \nChief Guests:\nP. Mahender Reddy\, Minister of Telangana Transport Department\nJupally Krishna Rao\, Minister of Panchayithi Raj and Rural Developement Telengana\nSabitha Indra Reddy\, Ex.Homeminster\nKonda Vishweshwar Reddy\, MP Chevella\nPrakash Goud\, MLA Rajendranagar \nInvited By: Sai Baba Temple Committee\nM.Sudhakar Reddy (Star Raju)\nV.Mohan Reddy\nK.Dasharath Reddy\nV.Sri Ram REddy \nFacebook Page: https://www.facebook.com/hudacolony/
URL:https://www.attapur.in/event/sri-sai-baba-idol-installation/
LOCATION:Shri Shirdi Sai Baba Samstan Temple Trust\, Huda Colony\, Attapur\, Rajendra Nagar\, Hyderabad\, Telangana\, 500048\, India
END:VEVENT
BEGIN:VEVENT
DTSTART;TZID=Asia/Kolkata:20170921T060000
DTEND;TZID=Asia/Kolkata:20170930T210000
DTSTAMP:20260419T203304
CREATED:20170921T072310Z
LAST-MODIFIED:20190808T154141Z
UID:2308-1505973600-1506805200@www.attapur.in
SUMMARY:Shri Devi Sharannavarathri Celebrations - Shri Surya Bhagavan - Shri Gajalaxmi - Gangadareeshwara Devalayamu
DESCRIPTION:Shri Devi Sharannavarathri Celebrations in Shri Surya Bhagavan – Shri Gajalaxmi – Gangadareeshwara Temple From Thursday\, 21-09-2017 to Sataurday\, 29-09-2017. \nPrograms Schedule:\n21-09-2017:\n6:00 am Abhishekam\, Ganapati Pooja\, Gopooja and Navagraha Pooja\n6:00 pm Akhanda Deepa Sthapana and Bhrahma Kalasa Stapana\n22-09-2017:\n6:00 am Shri Bala Tripura Sundari Devi Abhishekam\n23-09-2017:\n6:00 am Shri Gayathri Devi Abhishekam\n24-09-2017:\n6:00 am Shri Mahalaxmi Devi Abhishekam\n25-09-2017:\n6:00 am Shri Annapurna Devi Abhishekam\n26-09-2017:\n6:00 am Shri Lalita Tripur Sundari Devi Abhishekam\n27-09-2017:\n6:00 am Shri Maha Durga Devi Abhishekam\n28-09-2017:\n6:00 am Shri Saraswathi Devi Abhishekam\n8:00 am Chandi Homam\n7:00 pm Anna Santarpanamu\n29-09-2017:\n6:00 am Shri Mahisasuramardini Devi Abhishekam\n7:00 pm Batukamma Samburalu\n30-09-2017:\n6:00 am Shri Rajarajeshwari Devi Abhishekam\, Kalasa Udvasana\, Jala Samproksham\n7:00 pm Shami Pooja
URL:https://www.attapur.in/event/shri-devi-sharannavarathri-celebrations-shri-surya-bhagavan-shri-gajalaxmi-gangadareeshwara-devalayamu/
LOCATION:Shri Surya Bhagavan – Shri Gajalaxmi – Gangadareeshwara Devalayamu\, Sooraj Bhag\, Rambagh\, Attaur\, Hyderabad\, Telangana\, 500048\, India
END:VEVENT
BEGIN:VEVENT
DTSTART;TZID=Asia/Kolkata:20170510T080000
DTEND;TZID=Asia/Kolkata:20170510T170000
DTSTAMP:20260419T203304
CREATED:20170508T093927Z
LAST-MODIFIED:20190808T154141Z
UID:2136-1494403200-1494435600@www.attapur.in
SUMMARY:Sri Lakshmi Narasimha Swamy Kalyanam - Sri Kalyana Lakshmi Narasimha Swamy Devastanam
DESCRIPTION:Sri Lakshmi Narasimha Swamy Kalyanam conducting in Sri Kalyana Lakshmi Narasimha Swamy on 10th May\, 2017. \nProgram Schedule: \n4:00 am  Abhishekam \n6:30 pm  Astothara Shatanama Ustsavam \n10:00 am  Sri Lakshmi Narasimha Swamy Kalyanam \n04:00 pm  Vishnu Sahasranama Parayanam \n06:00 pm  Palliki Seva
URL:https://www.attapur.in/event/sri-lakshmi-narasimha-swamy-kalyanam-sri-kalyana-lakshmi-narasimha-swamy-devastanam/
LOCATION:Tejaswini Nagar\, Attapur\, Tejaswini Nagar\, Attapur\, Hyderabad\, Telangana\, 500048\, India
END:VEVENT
BEGIN:VEVENT
DTSTART;TZID=Asia/Kolkata:20170405T183000
DTEND;TZID=Asia/Kolkata:20170405T203000
DTSTAMP:20260419T203304
CREATED:20170405T102728Z
LAST-MODIFIED:20190808T154141Z
UID:2022-1491417000-1491424200@www.attapur.in
SUMMARY:Dwarakamai Sai Baba Chandanotsavsam @Sai Baba Temple\, Rethibowli
DESCRIPTION:
URL:https://www.attapur.in/event/dwarakamai-sai-baba-chandanotsavsam-sai-baba-temple-rethibowli/
LOCATION:Sai Baba Temple\, (Opposite Pillar # 54) COLONY\, Inner Ring Rd\, Padmanabha Nagar\, Mehdipatnam\, Sapthagiri Nagar Colony\, Brindawan Colony\, Rethibowli\, Mehdipatnam\, Hyderabad\, Telangana\, 500008\, India
ATTACH;FMTTYPE=image/jpeg:https://www.attapur.in/wp-content/uploads/2017/04/dwarakamai.jpg
END:VEVENT
BEGIN:VEVENT
DTSTART;TZID=Asia/Kolkata:20170405T103000
DTEND;TZID=Asia/Kolkata:20170405T183000
DTSTAMP:20260419T203304
CREATED:20170330T172558Z
LAST-MODIFIED:20190808T154205Z
UID:1972-1491388200-1491417000@www.attapur.in
SUMMARY:Sri Sita Rama Kalyana Mahotsavam on Apr 5\, 2017 at 10:30 AM in Janapriya Utopia
DESCRIPTION:
URL:https://www.attapur.in/event/sri-sita-rama-kalyana-mahotsavam-on-apr-5-2017-at-1030-am-in-janapriya-utopia/
LOCATION:Janapriya Utopia\, Janapriya Utopia\, Hyderabad\, Telangana\, 500048\, India
END:VEVENT
BEGIN:VEVENT
DTSTART;TZID=Asia/Kolkata:20170401T090000
DTEND;TZID=Asia/Kolkata:20170401T150000
DTSTAMP:20260419T203304
CREATED:20170331T162220Z
LAST-MODIFIED:20190808T154205Z
UID:1976-1491037200-1491058800@www.attapur.in
SUMMARY:Chandi Yagam at Sri Sri Yenugula Maisamma Devalayam\, Hyderguda\, Attapur
DESCRIPTION:Brahmotsavam of Sri Sri Yenugula Maisamma ammavaru on the occasion of Sri Sri Yenugula Maisamma Devalayam 11th anniversary to be held on Apr 1\, 2017. On this auspicious day\, Chandi Saptasathi Yaagam\, Kumbabishekam\, Ammavariki Alankaramulu and AnnaSantarpana programs will be conducted in the temple premises. \nWe request all the devotees to take part in the brahmostavam program and make the event a grand success and take the blessings of Sri Sri Yenugula Maisamma ammavaru. \nProgram Schedule: \nChandi Yaagam: 9:00am to 1:00pm \nAnnaSantarpana: 1:00pm onwards \n  \nTemple Address: \nSri Sri Yenugula Maisamma Devalayam\, \nNear Krishna Ambas and Raja Pushpa Apartments\, \nHyderguda\, Attapur
URL:https://www.attapur.in/event/chandi-yagam-at-sri-sri-yenugula-maisamma-devalayam-hyderguda-attapur/
LOCATION:Durga Temple\, Shri Krishna Ambhas Rd\, Laxmi Nagar Colony\, Nalanda Nagar\, Attapur\, Hyderabad\, Telangana\, 500030\, India
ATTACH;FMTTYPE=image/jpeg:https://www.attapur.in/wp-content/uploads/2017/03/Yenugula-Maisamma-Devalayam-3.jpg
END:VEVENT
BEGIN:VEVENT
DTSTART;TZID=Asia/Kolkata:20170329T180000
DTEND;TZID=Asia/Kolkata:20170329T190000
DTSTAMP:20260419T203304
CREATED:20170327T195441Z
LAST-MODIFIED:20190808T154205Z
UID:1939-1490810400-1490814000@www.attapur.in
SUMMARY:Ugadi Panchanga Sravanam in Shri Veerabhadra Shiva Sai Ramanjaneya Swamy Devastanamu
DESCRIPTION:Ugadi\, Hindu New Year (Havalambi) 29th March\, Wednesday \nHavalambi Nama Samvatsara Panchanga Sravanam By Vishwanad Sharma between 6pm and 7pm
URL:https://www.attapur.in/event/ugadi-panchanga-sravanam-in-shri-veerabhadra-shiva-sai-ramanjaneya-swamy-devastanamu/
LOCATION:Shri Veerabhadra Shiva Sai Ramanjaneya Swamy Devastanamu\, Gummakonda Colony\, Hyderguda\, Attapur\, Hyderabad\, Telangana\, 500048\, India
END:VEVENT
BEGIN:VEVENT
DTSTART;TZID=Asia/Kolkata:20170329T060000
DTEND;TZID=Asia/Kolkata:20170329T210000
DTSTAMP:20260419T203304
CREATED:20170327T060022Z
LAST-MODIFIED:20190808T154205Z
UID:1917-1490767200-1490821200@www.attapur.in
SUMMARY:Ugadi Celebrations In Lakshmi Ganapati Sai Baba Devalaya Samudayam
DESCRIPTION:Ugadi\, Hindu New Year (Havalambi) 29th March\, Wednesday \nLakshmi Ganapati Sai Baba Devalaya Samudayam will be celebrating Hindu new year with the following events. All are Welcome!! \n06:00 am  Abhishekam \n07:00 am  Archana \n07:00 am  Special Alankaram \n5:30 pm  Havalambi Nama Samvatsara Panchanga Sravanam By Narayana Rao
URL:https://www.attapur.in/event/ugadi-celebrations-in-lakshmi-ganapati-sai-baba-devalaya-samudayam/
LOCATION:Lakshmi Ganapati Sai Baba Devalaya Samudayam\, MEDHA REJOICE APARTMENT\, HYDERGUDA\, ATTAPUR\, Hyderabad\, Telangana\, 500048\, India
END:VEVENT
BEGIN:VEVENT
DTSTART;TZID=Asia/Kolkata:20170311T050000
DTEND;TZID=Asia/Kolkata:20170313T210000
DTSTAMP:20260419T203304
CREATED:20170305T070749Z
LAST-MODIFIED:20190808T154205Z
UID:1802-1489208400-1489438800@www.attapur.in
SUMMARY:Shri Bramaramba\, Ketamma\, Shri Mallikarjuna Swamy Mariyu Renuka Ellamma Devatala Vigraha Prathista
DESCRIPTION:
URL:https://www.attapur.in/event/shri-bramaramba-ketamma-shri-mallikarjuna-swamy-mariyu-renuka-ellamma-devatal-vigraha-prathista/
LOCATION:Erraboda\, Chaitanya Colony\, Erraboda\, Hyderguda\, Attapur\, Hyderabad\, Telangana\, 500048\, India
END:VEVENT
BEGIN:VEVENT
DTSTART;TZID=Asia/Kolkata:20170224T060000
DTEND;TZID=Asia/Kolkata:20170225T170000
DTSTAMP:20260419T203304
CREATED:20170219T073603Z
LAST-MODIFIED:20190808T154205Z
UID:1646-1487916000-1488042000@www.attapur.in
SUMMARY:Chinna Anantagiri Shivalayamu - MahaShivarathri Mahothsavamulu
DESCRIPTION:
URL:https://www.attapur.in/event/chinna-anantagiri-shivalayamu-mahashivarathri-mahothsavamulu/
LOCATION:Chinna Anantagiri Shivalayamu\, Rambagh\, Hyderguda\, Attapur\, Hyderabad\, Telangana\, 500048\, India
END:VEVENT
BEGIN:VEVENT
DTSTART;TZID=Asia/Kolkata:20170224T040000
DTEND;TZID=Asia/Kolkata:20170225T120000
DTSTAMP:20260419T203304
CREATED:20170219T072714Z
LAST-MODIFIED:20190808T154205Z
UID:1640-1487908800-1488024000@www.attapur.in
SUMMARY:Shri Veerabhadra Shiva Sai Ramanjaneya Swamy Devastanamu - MahaShivarathri Mahothsava Ahwanamu
DESCRIPTION:MahaShivarathri Mahothsava Ahwanamu
URL:https://www.attapur.in/event/shri-veerabhadra-shiva-sai-ramanjaneya-swamy-devastanamu-mahashivarathri-mahothsava-ahwanamu/
LOCATION:Shri Veerabhadra Shiva Sai Ramanjaneya Swamy Devastanamu\, Gummakonda Colony\, Hyderguda\, Attapur\, Hyderabad\, Telangana\, 500048\, India
ATTACH;FMTTYPE=image/jpeg:https://www.attapur.in/wp-content/uploads/2017/02/Veerabadra.jpg
END:VEVENT
BEGIN:VEVENT
DTSTART;TZID=Asia/Kolkata:20170219T053000
DTEND;TZID=Asia/Kolkata:20170219T210000
DTSTAMP:20260419T203304
CREATED:20170216T181010Z
LAST-MODIFIED:20190808T154205Z
UID:1616-1487482200-1487538000@www.attapur.in
SUMMARY:Lakshmi Ganapati Sai Baba Devalaya Samudayam Anniversary
DESCRIPTION:  \n \n \n  \n 
URL:https://www.attapur.in/event/lakshmi-ganapati-sai-baba-devalaya-samudayam-anniversary/
LOCATION:Lakshmi Ganapati Sai Baba Devalaya Samudayam\, MEDHA REJOICE ATTAPUR\, Hyderabad\, Telangana\, 500048\, India
ATTACH;FMTTYPE=image/jpeg:https://www.attapur.in/wp-content/uploads/2017/02/temple.jpg
END:VEVENT
BEGIN:VEVENT
DTSTART;TZID=Asia/Kolkata:20170129T080000
DTEND;TZID=Asia/Kolkata:20170129T170000
DTSTAMP:20260419T203304
CREATED:20170128T115142Z
LAST-MODIFIED:20190808T154206Z
UID:1585-1485676800-1485709200@www.attapur.in
SUMMARY:Polio Vaccination Program – Jan 29\, 2017
DESCRIPTION:The Polio Vaccination Program for children between 6 weeks to 5 years is going on at Anganwadi Center\, Gandhi Center\, Hyderguda\, Attapur.
URL:https://www.attapur.in/event/polio-vaccination-program-jan-29-2017/
LOCATION:Anganwadi Center\, Gandhi Statue\, Hyderguda\, Attapur Ring Road\, Hyderabad\, 500048\, India
END:VEVENT
BEGIN:VEVENT
DTSTART;TZID=Asia/Kolkata:20160621T080000
DTEND;TZID=Asia/Kolkata:20160626T170000
DTSTAMP:20260419T203304
CREATED:20160621T071600Z
LAST-MODIFIED:20190808T154206Z
UID:648-1466496000-1466960400@www.attapur.in
SUMMARY:Special Polio Vaccination Program - Jun 20 - 26\, 2016
DESCRIPTION:The Special Polio Vaccination Program for children between 6 weeks to 3 years is going on at Anganwadi Center\, Gandhi Center\, Hyderguda\, Attapur. \n \n 
URL:https://www.attapur.in/event/special-polio-vaccination-program-jun-20-26-2016/
LOCATION:Anganwadi Center\, Gandhi Statue\, Hyderguda\, Attapur Ring Road\, Hyderabad\, 500048\, India
END:VEVENT
BEGIN:VEVENT
DTSTART;TZID=Asia/Kolkata:20160604T110000
DTEND;TZID=Asia/Kolkata:20160605T200000
DTSTAMP:20260419T203304
CREATED:20160329T214905Z
LAST-MODIFIED:20190808T154206Z
UID:63-1465038000-1465156800@www.attapur.in
SUMMARY:Hyderabad Jewellery Gem and Pearl Fair\, An UBM Event 2016
DESCRIPTION:
URL:https://www.attapur.in/event/hyderabad-jewellery-gem-and-pearl-fair-an-ubm-event-2016/
LOCATION:HICC\, Madhapur\, Hyderabad\, India
END:VEVENT
BEGIN:VEVENT
DTSTART;TZID=Asia/Kolkata:20160415T080000
DTEND;TZID=Asia/Kolkata:20160417T230000
DTSTAMP:20260419T203304
CREATED:20160414T183846Z
LAST-MODIFIED:20190808T154206Z
UID:185-1460707200-1460934000@www.attapur.in
SUMMARY:Pochamma\, EEdhamma Devatha Punarpratista Mahotsavam
DESCRIPTION:
URL:https://www.attapur.in/event/pochamma-eedhamma-devatha-punarpratista-mahotsavam/
LOCATION:Spencer’s Attapur\, Spencer's\, Pillar no: 125\, Attapur\, hyderabad\, telangana\, 500048\, India
END:VEVENT
END:VCALENDAR